BEGIN:VCALENDAR
VERSION:2.0
PRODID:-// - ECPv4.6.16//NONSGML v1.0//EN
CALSCALE:GREGORIAN
METHOD:PUBLISH
X-ORIGINAL-URL:http://www.letrognon.com/bienvillers
X-WR-CALDESC:Events for 
BEGIN:VEVENT
DTSTART;TZID=Europe/Paris:20190510T130000
DTEND;TZID=Europe/Paris:20190510T170000
DTSTAMP:20260421T145543
CREATED:20180926T123616Z
LAST-MODIFIED:20180926T123616Z
UID:2558-1557493200-1557507600@www.letrognon.com
SUMMARY:Cross du RPI La Fontaine
DESCRIPTION:Le cross du RPI La Fontaine a lieu le vendredi 10 mai 2019 au complexe sportif. \n
URL:http://www.letrognon.com/bienvillers/event/cross-du-rpi-la-fontaine-2/
LOCATION:1 bis rue de la Louvière\, Bienvillers-au-Bois\, 62111
CATEGORIES:Scolaire,Sport
END:VEVENT
END:VCALENDAR