BEGIN:VCALENDAR
VERSION:2.0
PRODID:-// - ECPv4.6.16//NONSGML v1.0//EN
CALSCALE:GREGORIAN
METHOD:PUBLISH
X-ORIGINAL-URL:http://www.letrognon.com/bienvillers
X-WR-CALDESC:Events for 
BEGIN:VEVENT
DTSTART;TZID=Europe/Paris:20190926T190000
DTEND;TZID=Europe/Paris:20190926T203000
DTSTAMP:20260421T061445
CREATED:20190906T142256Z
LAST-MODIFIED:20190911T131340Z
UID:3547-1569524400-1569529800@www.letrognon.com
SUMMARY:Conseil Municipal
DESCRIPTION:La réunion du Conseil Municipal est prévue le jeudi 26 septembre 2019 à 19h00. \n
URL:http://www.letrognon.com/bienvillers/event/conseil-municipal-5/
CATEGORIES:Mairie
END:VEVENT
END:VCALENDAR