BEGIN:VCALENDAR
VERSION:2.0
PRODID:-// - ECPv4.6.16//NONSGML v1.0//EN
CALSCALE:GREGORIAN
METHOD:PUBLISH
X-ORIGINAL-URL:http://www.letrognon.com/bienvillers
X-WR-CALDESC:Events for 
BEGIN:VEVENT
DTSTART;TZID=Europe/Paris:20171221T190000
DTEND;TZID=Europe/Paris:20171221T203000
DTSTAMP:20260422T021930
CREATED:20171213T075335Z
LAST-MODIFIED:20171213T075335Z
UID:1668-1513882800-1513888200@www.letrognon.com
SUMMARY:Conseil Municipal
DESCRIPTION:Le Conseil Municipal se réunit le jeudi 21 décembre 2017 à partir de 19h à la Salle de Conseil. \n
URL:http://www.letrognon.com/bienvillers/event/conseil-municipal-4/
CATEGORIES:Mairie
END:VEVENT
END:VCALENDAR