BEGIN:VCALENDAR
VERSION:2.0
PRODID:-// - ECPv4.6.16//NONSGML v1.0//EN
CALSCALE:GREGORIAN
METHOD:PUBLISH
X-ORIGINAL-URL:http://www.letrognon.com/bienvillers
X-WR-CALDESC:Events for 
BEGIN:VEVENT
DTSTART;TZID=Europe/Paris:20171123T190000
DTEND;TZID=Europe/Paris:20171123T203000
DTSTAMP:20260422T070628
CREATED:20171113T143323Z
LAST-MODIFIED:20171113T143339Z
UID:1592-1511463600-1511469000@www.letrognon.com
SUMMARY:Conseil Municipal du 23 novembre 2017
DESCRIPTION:Le Conseil Municipal a lieu le jeudi 23 novembre 2017 à partir de 19h en Salle de Conseil. \n
URL:http://www.letrognon.com/bienvillers/event/conseil-municipal-23-novembre-2017/
CATEGORIES:Mairie
END:VEVENT
END:VCALENDAR