BEGIN:VCALENDAR
VERSION:2.0
PRODID:-// - ECPv4.6.16//NONSGML v1.0//EN
CALSCALE:GREGORIAN
METHOD:PUBLISH
X-ORIGINAL-URL:http://www.letrognon.com/bienvillers
X-WR-CALDESC:Events for 
BEGIN:VEVENT
DTSTART;TZID=Europe/Paris:20170306T190000
DTEND;TZID=Europe/Paris:20170306T210000
DTSTAMP:20260422T052433
CREATED:20170114T075204Z
LAST-MODIFIED:20170114T075204Z
UID:580-1488826800-1488834000@www.letrognon.com
SUMMARY:Conseil d'école
DESCRIPTION:Le prochain conseil d’école est prévu le lundi 6 mars 2017 à 19h00. \n
URL:http://www.letrognon.com/bienvillers/event/conseil-ecole/
CATEGORIES:Scolaire
END:VEVENT
END:VCALENDAR