BEGIN:VCALENDAR
VERSION:2.0
PRODID:-// - ECPv4.6.16//NONSGML v1.0//EN
CALSCALE:GREGORIAN
METHOD:PUBLISH
X-ORIGINAL-URL:http://www.letrognon.com/bienvillers
X-WR-CALDESC:Events for 
BEGIN:VEVENT
DTSTART;TZID=Europe/Paris:20170130T190000
DTEND;TZID=Europe/Paris:20170130T210000
DTSTAMP:20260422T173838
CREATED:20170127T103413Z
LAST-MODIFIED:20170127T103413Z
UID:588-1485802800-1485810000@www.letrognon.com
SUMMARY:Conseil Communautaire Communauté de Communes des Campagnes de l'Artois
DESCRIPTION:Le prochain conseil communautaire de la Communauté de Communes des Campagnes de l’Artois a lieu le lundi 30 janvier 2017 à 19h à Avesnes le Comte. \n
URL:http://www.letrognon.com/bienvillers/event/conseil-communautaire-communaute-communes-campagnes-artois/
CATEGORIES:Communauté de Communes
END:VEVENT
END:VCALENDAR