BEGIN:VCALENDAR
VERSION:2.0
PRODID:-// - ECPv4.6.16//NONSGML v1.0//EN
CALSCALE:GREGORIAN
METHOD:PUBLISH
X-ORIGINAL-URL:http://www.letrognon.com/bienvillers
X-WR-CALDESC:Events for 
BEGIN:VEVENT
DTSTART;TZID=Europe/Paris:20170225T170000
DTEND;TZID=Europe/Paris:20170225T230000
DTSTAMP:20260422T070634
CREATED:20170211T093008Z
LAST-MODIFIED:20170211T093008Z
UID:653-1488042000-1488063600@www.letrognon.com
SUMMARY:Concours de belote du Sporting Club Artésien
DESCRIPTION:Samedi 25 février 2017\, venez participer au concours de belote du Sporting Club Artésien !\n\n
URL:http://www.letrognon.com/bienvillers/event/concours-belote-sporting-club-artesien/
LOCATION:rue Haute\, Foncquevillers\, FRANCE\, 62111\, France Métropolitaine
CATEGORIES:Vie associative
END:VEVENT
END:VCALENDAR