BEGIN:VCALENDAR
VERSION:2.0
PRODID:-// - ECPv4.6.16//NONSGML v1.0//EN
CALSCALE:GREGORIAN
METHOD:PUBLISH
X-ORIGINAL-URL:http://www.letrognon.com/bienvillers
X-WR-CALDESC:Events for 
BEGIN:VEVENT
DTSTART;TZID=Europe/Paris:20191215T160000
DTEND;TZID=Europe/Paris:20191215T180000
DTSTAMP:20260421T025324
CREATED:20191106T081014Z
LAST-MODIFIED:20191106T081014Z
UID:3715-1576425600-1576432800@www.letrognon.com
SUMMARY:Concert de la chorale "Tous en Cœur"
DESCRIPTION:Venez assister ce dimanche 15 décembre 2019 à 16h à l’église\, au concert de la chorale “Tous en Cœur” ! \n \n
URL:http://www.letrognon.com/bienvillers/event/concert-de-la-chorale-tous-en-coeur/
LOCATION:rue du Bois\, Bienvillers-au-Bois\, 62111\, France
CATEGORIES:Vie associative
END:VEVENT
END:VCALENDAR