BEGIN:VCALENDAR
VERSION:2.0
PRODID:-// - ECPv4.6.16//NONSGML v1.0//EN
CALSCALE:GREGORIAN
METHOD:PUBLISH
X-ORIGINAL-URL:http://www.letrognon.com/bienvillers
X-WR-CALDESC:Events for 
BEGIN:VEVENT
DTSTART;TZID=Europe/Paris:20181215T200000
DTEND;TZID=Europe/Paris:20181215T220000
DTSTAMP:20260421T230658
CREATED:20181119T131842Z
LAST-MODIFIED:20181119T131842Z
UID:2708-1544904000-1544911200@www.letrognon.com
SUMMARY:Concert de la Chorale de Doullens
DESCRIPTION:Venez découvrir la représentation de chorale de Doullens “Le Choeur du Doullennais”\, dirigée par Christophe Vast et accompagnée au piano par Alice Marie Mesroua. Entrée gratuite ! \n \n
URL:http://www.letrognon.com/bienvillers/event/concert-chorale-doullens/
LOCATION:rue du Bois\, Bienvillers-au-Bois\, 62111\, France
CATEGORIES:Vie associative
END:VEVENT
END:VCALENDAR