BEGIN:VCALENDAR
VERSION:2.0
PRODID:-// - ECPv4.6.16//NONSGML v1.0//EN
CALSCALE:GREGORIAN
METHOD:PUBLISH
X-ORIGINAL-URL:http://www.letrognon.com/bienvillers
X-WR-CALDESC:Events for 
BEGIN:VEVENT
DTSTART;TZID=Europe/Paris:20170126T190000
DTEND;TZID=Europe/Paris:20170126T200000
DTSTAMP:20260422T191111
CREATED:20170113T130345Z
LAST-MODIFIED:20170113T130608Z
UID:557-1485457200-1485460800@www.letrognon.com
SUMMARY:Commission Travaux et Finance
DESCRIPTION:La Commission Travaux et Finance se réunit le jeudi 26 janvier 2017 à 19h en Mairie. \n
URL:http://www.letrognon.com/bienvillers/event/commission-travaux-finance/
CATEGORIES:Mairie
END:VEVENT
END:VCALENDAR