BEGIN:VCALENDAR
VERSION:2.0
PRODID:-// - ECPv4.6.16//NONSGML v1.0//EN
CALSCALE:GREGORIAN
METHOD:PUBLISH
X-ORIGINAL-URL:http://www.letrognon.com/bienvillers
X-WR-CALDESC:Events for 
BEGIN:VEVENT
DTSTART;TZID=Europe/Paris:20170206T180000
DTEND;TZID=Europe/Paris:20170206T181500
DTSTAMP:20260422T160311
CREATED:20170113T130549Z
LAST-MODIFIED:20170113T130632Z
UID:560-1486404000-1486404900@www.letrognon.com
SUMMARY:Commission électorale
DESCRIPTION:La commission électorale se réunit le lundi 6 février 2017 à 18h00 en Mairie. \n
URL:http://www.letrognon.com/bienvillers/event/commission-electorale-2/
CATEGORIES:Mairie
END:VEVENT
END:VCALENDAR