BEGIN:VCALENDAR
VERSION:2.0
PRODID:-// - ECPv4.6.16//NONSGML v1.0//EN
CALSCALE:GREGORIAN
METHOD:PUBLISH
X-ORIGINAL-URL:http://www.letrognon.com/bienvillers
X-WR-CALDESC:Events for 
BEGIN:VEVENT
DTSTART;TZID=Europe/Paris:20190327T100000
DTEND;TZID=Europe/Paris:20190327T120000
DTSTAMP:20260421T163625
CREATED:20190318T101152Z
LAST-MODIFIED:20190318T101152Z
UID:3075-1553680800-1553688000@www.letrognon.com
SUMMARY:Commission des impôts
DESCRIPTION:La commission des impôts se réunit le mercredi 27 mars 2019 en mairie. \n
URL:http://www.letrognon.com/bienvillers/event/commission-des-impots-2/
CATEGORIES:Mairie
END:VEVENT
END:VCALENDAR