BEGIN:VCALENDAR
VERSION:2.0
PRODID:-// - ECPv4.6.16//NONSGML v1.0//EN
CALSCALE:GREGORIAN
METHOD:PUBLISH
X-ORIGINAL-URL:http://www.letrognon.com/bienvillers
X-WR-CALDESC:Events for 
BEGIN:VEVENT
DTSTART;TZID=Europe/Paris:20181004T190000
DTEND;TZID=Europe/Paris:20181004T220000
DTSTAMP:20260422T002338
CREATED:20180926T120602Z
LAST-MODIFIED:20180926T120602Z
UID:2522-1538679600-1538690400@www.letrognon.com
SUMMARY:Commission animation
DESCRIPTION:La commission animation se réunit le jeudi 4 octobre 2018 à 19h en Mairie – Salle de Conseil. \n
URL:http://www.letrognon.com/bienvillers/event/commission-animation/
CATEGORIES:Mairie,Vie associative
END:VEVENT
END:VCALENDAR