BEGIN:VCALENDAR
VERSION:2.0
PRODID:-// - ECPv4.6.16//NONSGML v1.0//EN
CALSCALE:GREGORIAN
METHOD:PUBLISH
X-ORIGINAL-URL:http://www.letrognon.com/bienvillers
X-WR-CALDESC:Events for 
BEGIN:VEVENT
DTSTART;TZID=Europe/Paris:20170318T180000
DTEND;TZID=Europe/Paris:20170318T190000
DTSTAMP:20260421T213719
CREATED:20170308T140908Z
LAST-MODIFIED:20170308T140908Z
UID:766-1489860000-1489863600@www.letrognon.com
SUMMARY:COMMEMORATION SOUVENIRS DES COMBATTANTS MORTS EN ALGERIE
DESCRIPTION:18H00 : Rassemblement au Monument aux Morts \n18H15 : Verre de l’amitié dans le local des Aînés \n
URL:http://www.letrognon.com/bienvillers/event/commemoration-souvenirs-des-combattants-morts-en-algerie/
CATEGORIES:Vie associative
END:VEVENT
END:VCALENDAR