BEGIN:VCALENDAR
VERSION:2.0
PRODID:-// - ECPv4.6.16//NONSGML v1.0//EN
CALSCALE:GREGORIAN
METHOD:PUBLISH
X-ORIGINAL-URL:http://www.letrognon.com/bienvillers
X-WR-CALDESC:Events for 
BEGIN:VEVENT
DTSTART;TZID=Europe/Paris:20180319T184500
DTEND;TZID=Europe/Paris:20180319T193000
DTSTAMP:20260422T022338
CREATED:20171219T161230Z
LAST-MODIFIED:20180312T083443Z
UID:1716-1521485100-1521487800@www.letrognon.com
SUMMARY:Commémoration fin de la guerre d'Algérie
DESCRIPTION:Commémoration des accords d’Evian du 18 mars 1962 mettant fin à la Guerre d’Algérie. \n
URL:http://www.letrognon.com/bienvillers/event/commemoration-fin-de-la-guerre-dalgerie/
CATEGORIES:Citoyenneté
END:VEVENT
END:VCALENDAR