BEGIN:VCALENDAR
VERSION:2.0
PRODID:-// - ECPv4.6.16//NONSGML v1.0//EN
CALSCALE:GREGORIAN
METHOD:PUBLISH
X-ORIGINAL-URL:http://www.letrognon.com/bienvillers
X-WR-CALDESC:Events for 
BEGIN:VEVENT
DTSTART;TZID=Europe/Paris:20181111T110000
DTEND;TZID=Europe/Paris:20181111T120000
DTSTAMP:20260421T232157
CREATED:20180926T121750Z
LAST-MODIFIED:20181106T073036Z
UID:2537-1541934000-1541937600@www.letrognon.com
SUMMARY:Commémoration de l'armistice du 11 novembre 1918
DESCRIPTION:Commémoration du 100ème anniversaire de l’armistice du 11 novembre 1918. Rendez-vous à partir de 11h au Monument aux Morts. \n
URL:http://www.letrognon.com/bienvillers/event/commemoration-de-larmistice-du-11-novembre-1918/
LOCATION:Place du 8 mai 1945\, BIENVILLERS AU BOIS\, 62 111
CATEGORIES:Citoyenneté,Mairie
END:VEVENT
END:VCALENDAR