BEGIN:VCALENDAR
VERSION:2.0
PRODID:-// - ECPv4.6.16//NONSGML v1.0//EN
CALSCALE:GREGORIAN
METHOD:PUBLISH
X-ORIGINAL-URL:http://www.letrognon.com/bienvillers
X-WR-CALDESC:Events for 
BEGIN:VEVENT
DTSTART;TZID=Europe/Paris:20170618T110000
DTEND;TZID=Europe/Paris:20170618T120000
DTSTAMP:20260422T004912
CREATED:20170530T121053Z
LAST-MODIFIED:20170530T121737Z
UID:1046-1497783600-1497787200@www.letrognon.com
SUMMARY:Commémoration de l'appel du 18 juin 1940
DESCRIPTION:\n
URL:http://www.letrognon.com/bienvillers/event/commemoration-appel-18-juin-1940/
CATEGORIES:Citoyenneté,Vie associative
ATTACH;FMTTYPE=image/jpeg:http://www.letrognon.com/bienvillers/wp-content/uploads/2017/05/logo-comite-local-anciens-combattants-bienvillers-au-bois.jpg
END:VEVENT
END:VCALENDAR