BEGIN:VCALENDAR
VERSION:2.0
PRODID:-// - ECPv4.6.16//NONSGML v1.0//EN
CALSCALE:GREGORIAN
METHOD:PUBLISH
X-ORIGINAL-URL:http://www.letrognon.com/bienvillers
X-WR-CALDESC:Events for 
BEGIN:VEVENT
DTSTART;TZID=Europe/Paris:20180715T100000
DTEND;TZID=Europe/Paris:20180715T150000
DTSTAMP:20260422T021631
CREATED:20180507T121052Z
LAST-MODIFIED:20180507T121052Z
UID:2083-1531648800-1531666800@www.letrognon.com
SUMMARY:Cocci Fun
DESCRIPTION:\n
URL:http://www.letrognon.com/bienvillers/event/cocci-fun/
LOCATION:1 bis rue de la Louvière\, Bienvillers-au-Bois\, 62111
CATEGORIES:Vie associative
ATTACH;FMTTYPE=image/jpeg:http://www.letrognon.com/bienvillers/wp-content/uploads/2018/05/logo-coocifun.jpg
ORGANIZER;CN="Association%20Sports%20et%20Bien%20Etre":MAILTO:associationsportsetbienetre@gmail.com
END:VEVENT
END:VCALENDAR