BEGIN:VCALENDAR
VERSION:2.0
PRODID:-// - ECPv4.6.16//NONSGML v1.0//EN
CALSCALE:GREGORIAN
METHOD:PUBLISH
X-ORIGINAL-URL:http://www.letrognon.com/bienvillers
X-WR-CALDESC:Events for 
BEGIN:VEVENT
DTSTART;TZID=Europe/Paris:20190421T103000
DTEND;TZID=Europe/Paris:20190421T110000
DTSTAMP:20260421T151123
CREATED:20190326T164144Z
LAST-MODIFIED:20190326T164144Z
UID:3108-1555842600-1555844400@www.letrognon.com
SUMMARY:Chasse à l'oeuf
DESCRIPTION:\n
URL:http://www.letrognon.com/bienvillers/event/chasse-a-loeuf/
CATEGORIES:Mairie,Vie associative
END:VEVENT
END:VCALENDAR