BEGIN:VCALENDAR
VERSION:2.0
PRODID:-// - ECPv4.6.16//NONSGML v1.0//EN
CALSCALE:GREGORIAN
METHOD:PUBLISH
X-ORIGINAL-URL:http://www.letrognon.com/bienvillers
X-WR-CALDESC:Events for 
BEGIN:VEVENT
DTSTART;TZID=Europe/Paris:20170623T180000
DTEND;TZID=Europe/Paris:20170623T183000
DTSTAMP:20260422T005035
CREATED:20170320T153906Z
LAST-MODIFIED:20170530T122253Z
UID:831-1498240800-1498242600@www.letrognon.com
SUMMARY:Cérémonie des futurs collégiens
DESCRIPTION:Le vendredi 23 juin 2017 à 18h00 dans le hall de l’école\, a lieu la cérémonie des futurs collégiens de la commune. \n
URL:http://www.letrognon.com/bienvillers/event/ceremonie-futurs-collegiens/
LOCATION:3 rue de Pommier\, BIENVILLERS AU BOIS\, 62 111
CATEGORIES:Scolaire
ORGANIZER;CN="Mairie%20de%20Bienvillers%20au%20Bois":MAILTO:mairie@bienvillers.org
END:VEVENT
END:VCALENDAR