BEGIN:VCALENDAR
VERSION:2.0
PRODID:-// - ECPv4.6.16//NONSGML v1.0//EN
CALSCALE:GREGORIAN
METHOD:PUBLISH
X-ORIGINAL-URL:http://www.letrognon.com/bienvillers
X-WR-CALDESC:Events for 
BEGIN:VEVENT
DTSTART;TZID=Europe/Paris:20191111T110000
DTEND;TZID=Europe/Paris:20191111T120000
DTSTAMP:20260421T025400
CREATED:20191028T142342Z
LAST-MODIFIED:20191028T142342Z
UID:3667-1573470000-1573473600@www.letrognon.com
SUMMARY:Cérémonie du 11 novembre
DESCRIPTION:\n
URL:http://www.letrognon.com/bienvillers/event/ceremonie-du-11-novembre/
CATEGORIES:Citoyenneté,Mairie
END:VEVENT
END:VCALENDAR