BEGIN:VCALENDAR
VERSION:2.0
PRODID:-// - ECPv4.6.16//NONSGML v1.0//EN
CALSCALE:GREGORIAN
METHOD:PUBLISH
X-ORIGINAL-URL:http://www.letrognon.com/bienvillers
X-WR-CALDESC:Events for 
BEGIN:VEVENT
DTSTART;TZID=Europe/Paris:20170508T103000
DTEND;TZID=Europe/Paris:20170508T130000
DTSTAMP:20260422T021035
CREATED:20170426T131325Z
LAST-MODIFIED:20170426T131325Z
UID:965-1494239400-1494248400@www.letrognon.com
SUMMARY:Cérémonie de l'Armistice du 8 mai 1945
DESCRIPTION:Commémoration de la cérémonie de l’Armistice le lundi 8 mai 2017. Découvrez le programme ci-dessous : \n\n10h30     Rassemblement  dans le hall de l’école\n10h45     Appel aux Morts et dépôt de gerbes au Monument aux Morts\n11h10     Dépôt de gerbes aux Cimetières Militaires Français et Anglais\n12h15    Vin d’honneur offert par la Municipalité dans le hall de l’école\n\n
URL:http://www.letrognon.com/bienvillers/event/ceremonie-armistice-8-mai-1945/
CATEGORIES:Mairie
END:VEVENT
END:VCALENDAR