BEGIN:VCALENDAR
VERSION:2.0
PRODID:-// - ECPv4.6.16//NONSGML v1.0//EN
CALSCALE:GREGORIAN
METHOD:PUBLISH
X-ORIGINAL-URL:http://www.letrognon.com/bienvillers
X-WR-CALDESC:Events for 
BEGIN:VEVENT
DTSTART;VALUE=DATE:20241021
DTEND;VALUE=DATE:20241101
DTSTAMP:20260424T161214
CREATED:20240925T150311Z
LAST-MODIFIED:20240925T150311Z
UID:8563-1729468800-1730419199@www.letrognon.com
SUMMARY:Centre de loisirs
DESCRIPTION:View Fullscreen \n
URL:http://www.letrognon.com/bienvillers/event/centre-de-loisirs/
END:VEVENT
END:VCALENDAR