BEGIN:VCALENDAR
VERSION:2.0
PRODID:-// - ECPv4.6.16//NONSGML v1.0//EN
CALSCALE:GREGORIAN
METHOD:PUBLISH
X-ORIGINAL-URL:http://www.letrognon.com/bienvillers
X-WR-CALDESC:Events for 
BEGIN:VEVENT
DTSTART;TZID=Europe/Paris:20170403T190000
DTEND;TZID=Europe/Paris:20170403T200000
DTSTAMP:20260422T115352
CREATED:20170320T154155Z
LAST-MODIFIED:20170320T154155Z
UID:835-1491246000-1491249600@www.letrognon.com
SUMMARY:CCAS
DESCRIPTION:Le CCAS se réunit le lundi 3 avril 2017 de 18h à 19h en Mairie. \n
URL:http://www.letrognon.com/bienvillers/event/ccas/
CATEGORIES:Mairie
ORGANIZER;CN="Mairie%20de%20Bienvillers%20au%20Bois":MAILTO:mairie@bienvillers.org
END:VEVENT
END:VCALENDAR