BEGIN:VCALENDAR
VERSION:2.0
PRODID:-// - ECPv4.6.16//NONSGML v1.0//EN
CALSCALE:GREGORIAN
METHOD:PUBLISH
X-ORIGINAL-URL:http://www.letrognon.com/bienvillers
X-WR-CALDESC:Events for 
BEGIN:VEVENT
DTSTART;TZID=Europe/Paris:20170903T100000
DTEND;TZID=Europe/Paris:20170903T200000
DTSTAMP:20260422T071426
CREATED:20170724T134842Z
LAST-MODIFIED:20170724T134842Z
UID:1185-1504432800-1504468800@www.letrognon.com
SUMMARY:Ball Trap de la Société de Chasse de Bienvillers-au-Bois
DESCRIPTION:La Société de Chasse organise son ball trap le dimanche 3 septembre 2017 de 10h à 20h au Stand de Tir Bienvillers BTC Artésien route d’Hannescamps. \n
URL:http://www.letrognon.com/bienvillers/event/ball-trap-societe-chasse-bienvillers-au-bois/
LOCATION:Route d'Hannescamps\, Bienvillers au Bois
CATEGORIES:Vie associative
END:VEVENT
END:VCALENDAR