BEGIN:VCALENDAR
VERSION:2.0
PRODID:-// - ECPv4.6.16//NONSGML v1.0//EN
CALSCALE:GREGORIAN
METHOD:PUBLISH
X-ORIGINAL-URL:http://www.letrognon.com/bienvillers
X-WR-CALDESC:Events for 
BEGIN:VEVENT
DTSTART;TZID=Europe/Paris:20170515T100000
DTEND;TZID=Europe/Paris:20170515T110000
DTSTAMP:20260421T213717
CREATED:20170426T142527Z
LAST-MODIFIED:20170426T142921Z
UID:970-1494842400-1494846000@www.letrognon.com
SUMMARY:Atelier Gestes et détente et bien être de bébé
DESCRIPTION:\n
URL:http://www.letrognon.com/bienvillers/event/atelier-gestes-et-detente-et-bien-etre-de-bebe/
LOCATION:rue de la Louvière\, BIENVILLERS AU BOIS\, Région des Hauts de France\, 62 111\, France Métropolitaine
CATEGORIES:Conseil départemental,Mairie
ATTACH;FMTTYPE=image/jpeg:http://www.letrognon.com/bienvillers/wp-content/uploads/2017/04/logo-gestes-detente-bien-etre-de-bebe-conseil-departemental-pas-de-calais.jpg
END:VEVENT
END:VCALENDAR