BEGIN:VCALENDAR
VERSION:2.0
PRODID:-// - ECPv4.6.16//NONSGML v1.0//EN
CALSCALE:GREGORIAN
METHOD:PUBLISH
X-ORIGINAL-URL:http://www.letrognon.com/bienvillers
X-WR-CALDESC:Events for 
BEGIN:VEVENT
DTSTART;TZID=Europe/Paris:20190411T193000
DTEND;TZID=Europe/Paris:20190411T210000
DTSTAMP:20260421T145716
CREATED:20190326T165418Z
LAST-MODIFIED:20190326T165418Z
UID:3121-1555011000-1555016400@www.letrognon.com
SUMMARY:Atelier d'initiation à la généalogie
DESCRIPTION:\n
URL:http://www.letrognon.com/bienvillers/event/atelier-dinitiation-a-la-genealogie/
LOCATION:2 rue Saint Etton\, Bienvillers-au-Bois\, 62 111
CATEGORIES:Mairie,Vie associative
END:VEVENT
END:VCALENDAR