BEGIN:VCALENDAR
VERSION:2.0
PRODID:-// - ECPv4.6.16//NONSGML v1.0//EN
CALSCALE:GREGORIAN
METHOD:PUBLISH
X-ORIGINAL-URL:http://www.letrognon.com/bienvillers
X-WR-CALDESC:Events for 
BEGIN:VEVENT
DTSTART;TZID=Europe/Paris:20180930T090000
DTEND;TZID=Europe/Paris:20180930T120000
DTSTAMP:20260422T021402
CREATED:20180928T083902Z
LAST-MODIFIED:20180928T083902Z
UID:2562-1538298000-1538308800@www.letrognon.com
SUMMARY:Association Sports et Bien Etre
DESCRIPTION:Le départ de la marche et de la course à pied est fixé ce dimanche 30 septembre 2018 à 9h00 sur la place du village de Bienvillers-au-Bois ! \n
URL:http://www.letrognon.com/bienvillers/event/association-sports-et-bien-etre/
LOCATION:Place du 8 mai 1945\, BIENVILLERS AU BOIS\, 62 111
CATEGORIES:Vie associative
END:VEVENT
END:VCALENDAR