BEGIN:VCALENDAR
VERSION:2.0
PRODID:-// - ECPv4.6.16//NONSGML v1.0//EN
CALSCALE:GREGORIAN
METHOD:PUBLISH
X-ORIGINAL-URL:http://www.letrognon.com/bienvillers
X-WR-CALDESC:Events for 
BEGIN:VEVENT
DTSTART;TZID=Europe/Paris:20180916T090000
DTEND;TZID=Europe/Paris:20180916T120000
DTSTAMP:20260422T034024
CREATED:20180914T065044Z
LAST-MODIFIED:20180914T065044Z
UID:2468-1537088400-1537099200@www.letrognon.com
SUMMARY:Association Sports et Bien-Être
DESCRIPTION:Le départ de la marche et de la course à pied est fixé ce dimanche 16 septembre 2018 à 9h00 sur la place du village de Bienvillers-au-Bois ! \n
URL:http://www.letrognon.com/bienvillers/event/association-sports-bien-etre/
LOCATION:Place du 8 mai 1945\, BIENVILLERS AU BOIS\, 62 111
CATEGORIES:Sport,Vie associative
END:VEVENT
END:VCALENDAR