BEGIN:VCALENDAR
VERSION:2.0
PRODID:-// - ECPv4.6.16//NONSGML v1.0//EN
CALSCALE:GREGORIAN
METHOD:PUBLISH
X-ORIGINAL-URL:http://www.letrognon.com/bienvillers
X-WR-CALDESC:Events for 
BEGIN:VEVENT
DTSTART;TZID=Europe/Paris:20171209T161500
DTEND;TZID=Europe/Paris:20171209T190000
DTSTAMP:20260422T002344
CREATED:20171121T092326Z
LAST-MODIFIED:20171121T092326Z
UID:1625-1512836100-1512846000@www.letrognon.com
SUMMARY:Arbre de Noël
DESCRIPTION:La Municipalité et le Comité des Fêtes ont le plaisir de vous inviter à la Fête de Noël qui se déroulera le samedi 9 décembre 2017 à la salle polyvalente. \n
URL:http://www.letrognon.com/bienvillers/event/arbre-de-noel/
CATEGORIES:Mairie,Vie associative
END:VEVENT
END:VCALENDAR