BEGIN:VCALENDAR
VERSION:2.0
PRODID:-// - ECPv4.6.16//NONSGML v1.0//EN
CALSCALE:GREGORIAN
METHOD:PUBLISH
X-ORIGINAL-URL:http://www.letrognon.com/bienvillers
X-WR-CALDESC:Events for 
BEGIN:VEVENT
DTSTART;TZID=Europe/Paris:20181208T161500
DTEND;TZID=Europe/Paris:20181208T183000
DTSTAMP:20260421T230415
CREATED:20180926T122233Z
LAST-MODIFIED:20180926T122233Z
UID:2542-1544285700-1544293800@www.letrognon.com
SUMMARY:Arbre de noël
DESCRIPTION:L’arbre de noël des enfants de la commune a lieu le samedi 8 décembre 2018 à partir de 16h15. \n
URL:http://www.letrognon.com/bienvillers/event/arbre-de-noel-2/
CATEGORIES:Mairie
END:VEVENT
END:VCALENDAR