BEGIN:VCALENDAR
VERSION:2.0
PRODID:-// - ECPv4.6.16//NONSGML v1.0//EN
CALSCALE:GREGORIAN
METHOD:PUBLISH
X-ORIGINAL-URL:http://www.letrognon.com/bienvillers
X-WR-CALDESC:Events for 
BEGIN:VEVENT
DTSTART;TZID=Europe/Paris:20190302T110000
DTEND;TZID=Europe/Paris:20190302T120000
DTSTAMP:20260421T182232
CREATED:20190201T150723Z
LAST-MODIFIED:20190301T105749Z
UID:2980-1551524400-1551528000@www.letrognon.com
SUMMARY:Anciens Combattants de Bienvillers au Bois
DESCRIPTION:La messe des Anciens Combattants de Bienvillers au Bois est prévue le samedi 2 mars 2019. \n
URL:http://www.letrognon.com/bienvillers/event/anciens-combattants-de-bienvillers-au-bois/
CATEGORIES:Vie associative
END:VEVENT
END:VCALENDAR