BEGIN:VCALENDAR
VERSION:2.0
PRODID:-// - ECPv4.6.16//NONSGML v1.0//EN
CALSCALE:GREGORIAN
METHOD:PUBLISH
X-ORIGINAL-URL:http://www.letrognon.com/bienvillers
X-WR-CALDESC:Events for 
BEGIN:VEVENT
DTSTART;TZID=Europe/Paris:20170507T080000
DTEND;TZID=Europe/Paris:20170507T230000
DTSTAMP:20260421T213619
CREATED:20170109T151752Z
LAST-MODIFIED:20170109T151752Z
UID:548-1494144000-1494198000@www.letrognon.com
SUMMARY:23ème Tournoi du Tennis de Table
DESCRIPTION:Ce dimanche 7 mai 2017 a lieu le 23ème Tournoi du Tennis de Table à Bienvillers-au-Bois\n  \n\n
URL:http://www.letrognon.com/bienvillers/event/23eme-tournoi-tennis-de-table/
CATEGORIES:Vie associative
ATTACH;FMTTYPE=image/jpeg:http://www.letrognon.com/bienvillers/wp-content/uploads/2017/01/tennis-de-table.jpg
END:VEVENT
END:VCALENDAR