BEGIN:VCALENDAR
VERSION:2.0
PRODID:-// - ECPv4.6.16//NONSGML v1.0//EN
CALSCALE:GREGORIAN
METHOD:PUBLISH
X-ORIGINAL-URL:http://www.letrognon.com/bienvillers
X-WR-CALDESC:Events for 
BEGIN:VEVENT
DTSTART;TZID=Europe/Paris:20220612T080000
DTEND;TZID=Europe/Paris:20220612T190000
DTSTAMP:20260423T102546
CREATED:20220331T131756Z
LAST-MODIFIED:20220331T131756Z
UID:5366-1655020800-1655060400@www.letrognon.com
SUMMARY:1er tour - Elections Législatives
DESCRIPTION:Le 1er tour des élections législatives a lieu le dimanche 12 juin 2022. Le bureau de vote se tiendra\, de 8h à 19h\, dans la salle de motricité de l’école (accès par la cour) ! Attention\, aux mesures sanitaires en vigueur ! \n
URL:http://www.letrognon.com/bienvillers/event/1er-tour-elections-legislatives/
END:VEVENT
END:VCALENDAR